BEGIN:VCALENDAR
VERSION:2.0
PRODID:iheid
X-WR-TIMEZONE:Europe/Zurich
BEGIN:VTIMEZONE
TZID:Europe/Zurich
X-LIC-LOCATION:Europe/Zurich
END:VTIMEZONE
BEGIN:VEVENT
UID:69e68f9c72946
DTSTART:20240924T150000Z
SEQUENCE:0
TRANSP:OPAQUE
DTEND:20240924T163000Z
URL:https://iheid.webex.com/iheid/j.php?MTID=mcf16fe5c0fa199ad1b38e0f459885
 b63
LOCATION:Online Event
SUMMARY:Youth Impact: Stories of Change
CLASS:PUBLIC
DESCRIPTION:Youth Impact: Stories of Change by .\n\n\n\nEvent connection: h
 ttps://iheid.webex.com/iheid/j.php?MTID=mcf16fe5c0fa199ad1b38e0f459885b63
DTSTAMP:20260420T224204Z
END:VEVENT
END:VCALENDAR