BEGIN:VCALENDAR
VERSION:2.0
PRODID:iheid
X-WR-TIMEZONE:Europe/Zurich
BEGIN:VTIMEZONE
TZID:Europe/Zurich
X-LIC-LOCATION:Europe/Zurich
END:VTIMEZONE
BEGIN:VEVENT
UID:69e8f311077cf
DTSTART:20241010T163000Z
SEQUENCE:0
TRANSP:OPAQUE
DTEND:20241010T180000Z
URL:https://iheid.webex.com/weblink/register/r64359455e0d9738962d2823dca873
 fac
LOCATION:Geneva Graduate Institute\, Maison de la paix\, Auditorium A2 and 
 Online.
SUMMARY:Launch of the Fondation Abi-Saab pour le droit international et la 
 justice sociale 
CLASS:PUBLIC
DESCRIPTION:Launch of the Fondation Abi-Saab pour le droit international et
  la justice sociale  by Georges Abi-Saab.\n\n\n\nEvent connection: https:/
 /iheid.webex.com/weblink/register/r64359455e0d9738962d2823dca873fac
DTSTAMP:20260422T181057Z
END:VEVENT
END:VCALENDAR