BEGIN:VCALENDAR
VERSION:2.0
PRODID:iheid
X-WR-TIMEZONE:Europe/Zurich
BEGIN:VTIMEZONE
TZID:Europe/Zurich
X-LIC-LOCATION:Europe/Zurich
END:VTIMEZONE
BEGIN:VEVENT
UID:69e76aec2f75c
DTSTART:20241101T113000Z
SEQUENCE:0
TRANSP:OPAQUE
DTEND:20241101T130000Z
LOCATION:Geneva Graduate Institute\, Maison de la paix\, Auditorium A2
SUMMARY:The Public Law of Europe and the Denial of African Sovereignty
CLASS:PUBLIC
DESCRIPTION:The Public Law of Europe and the Denial of African Sovereignty 
 by Judge Fatsah Ouguergouz.\n\n\n\nEvent connection: 
DTSTAMP:20260421T141748Z
END:VEVENT
END:VCALENDAR