BEGIN:VCALENDAR
VERSION:2.0
PRODID:iheid
X-WR-TIMEZONE:Europe/Zurich
BEGIN:VTIMEZONE
TZID:Europe/Zurich
X-LIC-LOCATION:Europe/Zurich
END:VTIMEZONE
BEGIN:VEVENT
UID:69ead087c3a55
DTSTART:20241025T103000Z
SEQUENCE:0
TRANSP:OPAQUE
DTEND:20241025T120000Z
LOCATION:Auditorium A2 and online
SUMMARY:International Sanctions in Practice:  An Interdisciplinary Perspect
 ive Book Launch
CLASS:PUBLIC
DESCRIPTION:International Sanctions in Practice:  An Interdisciplinary Pers
 pective Book Launch by .\n\n\n\nEvent connection: 
DTSTAMP:20260424T040807Z
END:VEVENT
END:VCALENDAR