BEGIN:VCALENDAR
VERSION:2.0
PRODID:iheid
X-WR-TIMEZONE:Europe/Zurich
BEGIN:VTIMEZONE
TZID:Europe/Zurich
X-LIC-LOCATION:Europe/Zurich
END:VTIMEZONE
BEGIN:VEVENT
UID:69ec94cfaee4e
DTSTART:20241119T151500Z
SEQUENCE:0
TRANSP:OPAQUE
DTEND:20241119T164500Z
LOCATION:Geneva Graduate Institute\, Maison de la paix\, room S5
SUMMARY:Palestine and the Infrastructures of Empire: Occupation and Liberat
 ion in the Digital Age
CLASS:PUBLIC
DESCRIPTION:Palestine and the Infrastructures of Empire: Occupation and Lib
 eration in the Digital Age by Miriyam Aouragh\, University of Westminster.
 \n\n\n\nEvent connection: 
DTSTAMP:20260425T121751Z
END:VEVENT
END:VCALENDAR