BEGIN:VCALENDAR
VERSION:2.0
PRODID:iheid
X-WR-TIMEZONE:Europe/Zurich
BEGIN:VTIMEZONE
TZID:Europe/Zurich
X-LIC-LOCATION:Europe/Zurich
END:VTIMEZONE
BEGIN:VEVENT
UID:69ec995ceaf04
DTSTART:20241107T171500Z
SEQUENCE:0
TRANSP:OPAQUE
DTEND:20241107T183000Z
LOCATION:Room S8 | Maison de la paix | Geneva Graduate Institute
SUMMARY:Documentary Film Screening 'Seed Stories' with Director Chitrangada
  Choudhury
CLASS:PUBLIC
DESCRIPTION:Documentary Film Screening &#039\;Seed Stories&#039\; with Dire
 ctor Chitrangada Choudhury by .\n\n\n\nEvent connection: 
DTSTAMP:20260425T123716Z
END:VEVENT
END:VCALENDAR