BEGIN:VCALENDAR
VERSION:2.0
PRODID:iheid
X-WR-TIMEZONE:Europe/Zurich
BEGIN:VTIMEZONE
TZID:Europe/Zurich
X-LIC-LOCATION:Europe/Zurich
END:VTIMEZONE
BEGIN:VEVENT
UID:69e54b643f2dd
DTSTART:20241210T171500Z
SEQUENCE:0
TRANSP:OPAQUE
DTEND:20241210T184500Z
LOCATION:No location specified
SUMMARY:Counting Carbon: Natural climate solutions\, low-carbon landscapes\
 , and environmental justice
CLASS:PUBLIC
DESCRIPTION:Counting Carbon: Natural climate solutions\, low-carbon landsca
 pes\, and environmental justice by .\n\n\n\nEvent connection: 
DTSTAMP:20260419T233844Z
END:VEVENT
END:VCALENDAR