BEGIN:VCALENDAR
VERSION:2.0
PRODID:iheid
X-WR-TIMEZONE:Europe/Zurich
BEGIN:VTIMEZONE
TZID:Europe/Zurich
X-LIC-LOCATION:Europe/Zurich
END:VTIMEZONE
BEGIN:VEVENT
UID:69eb481429b52
DTSTART:20241209T173000Z
SEQUENCE:0
TRANSP:OPAQUE
DTEND:20241209T190000Z
LOCATION:Auditorium A2\, Maison de la paix\, Genève
SUMMARY:Discrimination et religion
CLASS:PUBLIC
DESCRIPTION:Discrimination et religion by .\n\n\n\nEvent connection: 
DTSTAMP:20260424T123812Z
END:VEVENT
END:VCALENDAR