BEGIN:VCALENDAR
VERSION:2.0
PRODID:iheid
X-WR-TIMEZONE:Europe/Zurich
BEGIN:VTIMEZONE
TZID:Europe/Zurich
X-LIC-LOCATION:Europe/Zurich
END:VTIMEZONE
BEGIN:VEVENT
UID:69e54ffc70231
DTSTART:20241127T111500Z
SEQUENCE:0
TRANSP:OPAQUE
DTEND:20241127T130000Z
URL:https://docs.google.com/forms/d/e/1FAIpQLScVtqvbK2vgj3Vs61T_l69rLtPq1t7
 iyWSwvLUBXoMu6Dg1Fw/viewform?usp=sf_link
LOCATION:High-level Panel Discussion on Agroecology | 12:15 - 14:00 | Audit
 orium Ivan Pictet A2\, Maison de la paix\, Geneva
SUMMARY:High-Level Panel Discussion on Agroecology
CLASS:PUBLIC
DESCRIPTION:High-Level Panel Discussion on Agroecology by .\n\n\n\nEvent co
 nnection: https://docs.google.com/forms/d/e/1FAIpQLScVtqvbK2vgj3Vs61T_l69r
 LtPq1t7iyWSwvLUBXoMu6Dg1Fw/viewform?usp=sf_link
DTSTAMP:20260419T235820Z
END:VEVENT
END:VCALENDAR