BEGIN:VCALENDAR
VERSION:2.0
PRODID:iheid
X-WR-TIMEZONE:Europe/Zurich
BEGIN:VTIMEZONE
TZID:Europe/Zurich
X-LIC-LOCATION:Europe/Zurich
END:VTIMEZONE
BEGIN:VEVENT
UID:69e5503120637
DTSTART:20241218T113000Z
SEQUENCE:0
TRANSP:OPAQUE
DTEND:20241218T123000Z
LOCATION:Auditorium Ivan Pictet B\, Maison de la paix et en ligne.Modéré 
 par Dr Annyssa Bellal\, Executive Director of the Geneva Peacebuilding Pla
 tform.
SUMMARY:Antisémitisme et antisionisme : un décryptage dans le contexte ac
 tuel
CLASS:PUBLIC
DESCRIPTION:Antisémitisme et antisionisme : un décryptage dans le context
 e actuel by Marcelo Kohen\, professeur émérite de droit international\, 
 Institut de hautes études internationales et du développement.\n\n\n\nEv
 ent connection: 
DTSTAMP:20260419T235913Z
END:VEVENT
END:VCALENDAR