BEGIN:VCALENDAR
VERSION:2.0
PRODID:iheid
X-WR-TIMEZONE:Europe/Zurich
BEGIN:VTIMEZONE
TZID:Europe/Zurich
X-LIC-LOCATION:Europe/Zurich
END:VTIMEZONE
BEGIN:VEVENT
UID:69ec9946dc592
DTSTART:20250120T081000Z
SEQUENCE:0
TRANSP:OPAQUE
DTEND:20250120T091500Z
LOCATION:Auditorium A1B\, Maison de la paix\, Geneva Graduate Institute
SUMMARY: Cauldron of Conflict: the Cold War and the Middle East
CLASS:PUBLIC
DESCRIPTION: Cauldron of Conflict: the Cold War and the Middle East by .\n\
 n\n\nEvent connection: 
DTSTAMP:20260425T123654Z
END:VEVENT
END:VCALENDAR