BEGIN:VCALENDAR
VERSION:2.0
PRODID:iheid
X-WR-TIMEZONE:Europe/Zurich
BEGIN:VTIMEZONE
TZID:Europe/Zurich
X-LIC-LOCATION:Europe/Zurich
END:VTIMEZONE
BEGIN:VEVENT
UID:69eb9c29e2c50
DTSTART:20250603T110000Z
SEQUENCE:0
TRANSP:OPAQUE
DTEND:20250603T120000Z
URL:https://forms.gle/6CsK9AEk8qeJXsFWA
LOCATION:The Fab\, petal 2 - 4th floor\, Maison de la paix\, Geneva Graduat
 e Institute
SUMMARY:Financialisation and Global Health: Unpacking Impact - Research Caf
 é
CLASS:PUBLIC
DESCRIPTION:Financialisation and Global Health: Unpacking Impact - Research
  Café by Nadya Wells &amp\; Vinh-Kim Nguyen.\n\n\n\nEvent connection: htt
 ps://forms.gle/6CsK9AEk8qeJXsFWA
DTSTAMP:20260424T183657Z
END:VEVENT
END:VCALENDAR