BEGIN:VCALENDAR
VERSION:2.0
PRODID:iheid
X-WR-TIMEZONE:Europe/Zurich
BEGIN:VTIMEZONE
TZID:Europe/Zurich
X-LIC-LOCATION:Europe/Zurich
END:VTIMEZONE
BEGIN:VEVENT
UID:69e7b4b54f24b
DTSTART:20250306T111500Z
SEQUENCE:0
TRANSP:OPAQUE
DTEND:20250306T123000Z
LOCATION:Auditorium Ivan Pictet | Maison de la paix\, Geneva
SUMMARY:THE GENEVA GENDER DEBATE 2025
CLASS:PUBLIC
DESCRIPTION:THE GENEVA GENDER DEBATE 2025 by in partnership with the Intern
 ational Gender Champions and as part of the Institute’s Gender\, Diversi
 ty &amp\; Inclusion Initiative.\n\n\n\nEvent connection: 
DTSTAMP:20260421T193237Z
END:VEVENT
END:VCALENDAR