BEGIN:VCALENDAR
VERSION:2.0
PRODID:iheid
X-WR-TIMEZONE:Europe/Zurich
BEGIN:VTIMEZONE
TZID:Europe/Zurich
X-LIC-LOCATION:Europe/Zurich
END:VTIMEZONE
BEGIN:VEVENT
UID:69e8e6959f9df
DTSTART:20250312T173000Z
SEQUENCE:0
TRANSP:OPAQUE
DTEND:20250312T200000Z
LOCATION:Auditorium Ivan Pictet A1 | Maison de la paix\, Geneva
SUMMARY:Strengthening Economic\, Social and Cultural Rights
CLASS:PUBLIC
DESCRIPTION:Strengthening Economic\, Social and Cultural Rights by in partn
 ership with the International Film Festival and Forum on Human Rights (FIF
 DH).\n\n\n\nEvent connection: 
DTSTAMP:20260422T171741Z
END:VEVENT
END:VCALENDAR