BEGIN:VCALENDAR
VERSION:2.0
PRODID:iheid
X-WR-TIMEZONE:Europe/Zurich
BEGIN:VTIMEZONE
TZID:Europe/Zurich
X-LIC-LOCATION:Europe/Zurich
END:VTIMEZONE
BEGIN:VEVENT
UID:69eb924f4a939
DTSTART:20250304T173000Z
SEQUENCE:0
TRANSP:OPAQUE
DTEND:20250304T190000Z
LOCATION:Auditorium Ivan Pictet | Maison de la paix\, Geneva
SUMMARY:Reinventing Geneva as a Global Hub: Seizing a moment for change
CLASS:PUBLIC
DESCRIPTION:Reinventing Geneva as a Global Hub: Seizing a moment for change
  by In partnership with the Republic and State of Geneva\, the City of Gen
 eva and the Fondation pour Genève.\n\n\n\nEvent connection: 
DTSTAMP:20260424T175455Z
END:VEVENT
END:VCALENDAR