BEGIN:VCALENDAR
VERSION:2.0
PRODID:iheid
X-WR-TIMEZONE:Europe/Zurich
BEGIN:VTIMEZONE
TZID:Europe/Zurich
X-LIC-LOCATION:Europe/Zurich
END:VTIMEZONE
BEGIN:VEVENT
UID:69e8ba58cfc77
DTSTART:20251001T110000Z
SEQUENCE:0
TRANSP:OPAQUE
DTEND:20251003T110000Z
URL:https://docs.google.com/forms/d/e/1FAIpQLSdtOWd3OVuTenmATAI4UVSpyxEbQAc
 -q5xEtWo_MQUEkvr_hg/viewform?usp=dialog
LOCATION:&nbsp\;Auditorium Ivan Pictet\, Maison de la paixVilla Barton and 
 Jacques-Freymond Auditorium\, Domaine Barton
SUMMARY:Hoffmann Centre / CEPR / ReCIPE Flagship Conference on Global Susta
 inability
CLASS:PUBLIC
DESCRIPTION:Hoffmann Centre / CEPR / ReCIPE Flagship Conference on Global S
 ustainability by Hoffmann Centre for Global Sustainability.\n\n\n\nEvent c
 onnection: https://docs.google.com/forms/d/e/1FAIpQLSdtOWd3OVuTenmATAI4UVS
 pyxEbQAc-q5xEtWo_MQUEkvr_hg/viewform?usp=dialog
DTSTAMP:20260422T140856Z
END:VEVENT
END:VCALENDAR