BEGIN:VCALENDAR
VERSION:2.0
PRODID:iheid
X-WR-TIMEZONE:Europe/Zurich
BEGIN:VTIMEZONE
TZID:Europe/Zurich
X-LIC-LOCATION:Europe/Zurich
END:VTIMEZONE
BEGIN:VEVENT
UID:69e9075d521ee
DTSTART:20250513T100000Z
SEQUENCE:0
TRANSP:OPAQUE
DTEND:20250516T100000Z
LOCATION:Maison de la paix\, Chemin Eugène-Rigot 2
SUMMARY:Flotsam & Jetsam: ImageApp Project final conference
CLASS:PUBLIC
DESCRIPTION:Flotsam &amp\; Jetsam: ImageApp Project final conference by .\n
 \n\n\nEvent connection: 
DTSTAMP:20260422T193733Z
END:VEVENT
END:VCALENDAR