BEGIN:VCALENDAR
VERSION:2.0
PRODID:iheid
X-WR-TIMEZONE:Europe/Zurich
BEGIN:VTIMEZONE
TZID:Europe/Zurich
X-LIC-LOCATION:Europe/Zurich
END:VTIMEZONE
BEGIN:VEVENT
UID:69e5d6dbd14ef
DTSTART:20250520T100000Z
SEQUENCE:0
TRANSP:OPAQUE
DTEND:20250520T120000Z
LOCATION:Hybrid: Auditorium Ivan Pictet\, Geneva Graduate Institute\, Maiso
 n de la paix and online.A light lunch will be offered from 12:00 to 12:30 
 CEST
SUMMARY:Watch: Pandemic Readiness in an Uncertain World
CLASS:PUBLIC
DESCRIPTION:Watch: Pandemic Readiness in an Uncertain World by Internationa
 l Geneva Global Health Platform.\n\n\n\nEvent connection: 
DTSTAMP:20260420T093347Z
END:VEVENT
END:VCALENDAR