BEGIN:VCALENDAR
VERSION:2.0
PRODID:iheid
X-WR-TIMEZONE:Europe/Zurich
BEGIN:VTIMEZONE
TZID:Europe/Zurich
X-LIC-LOCATION:Europe/Zurich
END:VTIMEZONE
BEGIN:VEVENT
UID:69e5db3340bc7
DTSTART:20250519T103000Z
SEQUENCE:0
TRANSP:OPAQUE
DTEND:20250519T120000Z
LOCATION:Maison de la paix | Room S11
SUMMARY:Crypto Dad and the Primal Horde: Masculinity\, Regulation and the S
 ymbolic Life of Money
CLASS:PUBLIC
DESCRIPTION:Crypto Dad and the Primal Horde: Masculinity\, Regulation and t
 he Symbolic Life of Money by Kate Maclean\, University College London.\n\n
 \n\nEvent connection: 
DTSTAMP:20260420T095219Z
END:VEVENT
END:VCALENDAR