BEGIN:VCALENDAR
VERSION:2.0
PRODID:iheid
X-WR-TIMEZONE:Europe/Zurich
BEGIN:VTIMEZONE
TZID:Europe/Zurich
X-LIC-LOCATION:Europe/Zurich
END:VTIMEZONE
BEGIN:VEVENT
UID:69e645ba2e980
DTSTART:20250508T140000Z
SEQUENCE:0
TRANSP:OPAQUE
DTEND:20250508T153000Z
LOCATION:Geneva Graduate Institute\, Maison de la paix\, Room S12
SUMMARY:Imperial\, Familial and Bureaucratic: Global Gender Logics of Bilat
 eral Diplomacy
CLASS:PUBLIC
DESCRIPTION:Imperial\, Familial and Bureaucratic: Global Gender Logics of B
 ilateral Diplomacy by Ann Towns.\n\n\n\nEvent connection: 
DTSTAMP:20260420T172650Z
END:VEVENT
END:VCALENDAR