BEGIN:VCALENDAR
VERSION:2.0
PRODID:iheid
X-WR-TIMEZONE:Europe/Zurich
BEGIN:VTIMEZONE
TZID:Europe/Zurich
X-LIC-LOCATION:Europe/Zurich
END:VTIMEZONE
BEGIN:VEVENT
UID:69e93c999e2dc
DTSTART:20250514T163000Z
SEQUENCE:0
TRANSP:OPAQUE
DTEND:20250514T180000Z
LOCATION:Auditorium A2\, Maison de la paix\, Geneva
SUMMARY:New Apostles and old disciples\, The (un)making of MAGA religious p
 opulism
CLASS:PUBLIC
DESCRIPTION:New Apostles and old disciples\, The (un)making of MAGA religio
 us populism by Nadia Marzouki\, chargée de recherche au CNRS et membre du
  CERI.\n\n\n\nEvent connection: 
DTSTAMP:20260422T232441Z
END:VEVENT
END:VCALENDAR