BEGIN:VCALENDAR
VERSION:2.0
PRODID:iheid
X-WR-TIMEZONE:Europe/Zurich
BEGIN:VTIMEZONE
TZID:Europe/Zurich
X-LIC-LOCATION:Europe/Zurich
END:VTIMEZONE
BEGIN:VEVENT
UID:69e8ad800d5e1
DTSTART:20250527T070000Z
SEQUENCE:0
TRANSP:OPAQUE
DTEND:20250527T150000Z
LOCATION:Maison de la paix\, Geneva
SUMMARY:Africa Summit 2025: Africa at the heart of a changing world
CLASS:PUBLIC
DESCRIPTION:Africa Summit 2025: Africa at the heart of a changing world by 
 Afrique Student Association (ASA).\n\n\n\nEvent connection: 
DTSTAMP:20260422T131408Z
END:VEVENT
END:VCALENDAR