BEGIN:VCALENDAR
VERSION:2.0
PRODID:iheid
X-WR-TIMEZONE:Europe/Zurich
BEGIN:VTIMEZONE
TZID:Europe/Zurich
X-LIC-LOCATION:Europe/Zurich
END:VTIMEZONE
BEGIN:VEVENT
UID:69e9d5e79de23
DTSTART:20260320T083000Z
SEQUENCE:0
TRANSP:OPAQUE
DTEND:20260320T110000Z
URL:https://forms.gle/HcwiBEWaLc3TF8cf8
LOCATION:Room S12\, Maison de la paix\, Chemin Eugène Rigot 2a\, 1202 Gen
 ève
SUMMARY:Making Global Norms: Politics versus Science in International Organ
 izations
CLASS:PUBLIC
DESCRIPTION:Making Global Norms: Politics versus Science in International O
 rganizations by With Leonard Seabrooke\, Copenhagen Business School and Al
 exandros Kentikelenis\, Bocconi .\n\n\n\nEvent connection: https://forms.g
 le/HcwiBEWaLc3TF8cf8
DTSTAMP:20260423T101847Z
END:VEVENT
END:VCALENDAR