BEGIN:VCALENDAR
VERSION:2.0
PRODID:iheid
X-WR-TIMEZONE:Europe/Zurich
BEGIN:VTIMEZONE
TZID:Europe/Zurich
X-LIC-LOCATION:Europe/Zurich
END:VTIMEZONE
BEGIN:VEVENT
UID:69e735a18b015
DTSTART:20251111T111500Z
SEQUENCE:0
TRANSP:OPAQUE
DTEND:20251111T141500Z
URL:https://docs.google.com/forms/d/e/1FAIpQLSeZ7EHrjTKstCP1Tym4epWkkckd5UN
 re0m8qspmkUM1h2sSaA/viewform?usp=header
LOCATION:Salon Davis | Maison de la paix\, Geneva Graduate Institute
SUMMARY:Diversity Fresco
CLASS:PUBLIC
DESCRIPTION:Diversity Fresco by Diversity\, Equity &amp\; Inclusion Initiat
 ive.\n\n\n\nEvent connection: https://docs.google.com/forms/d/e/1FAIpQLSeZ
 7EHrjTKstCP1Tym4epWkkckd5UNre0m8qspmkUM1h2sSaA/viewform?usp=header
DTSTAMP:20260421T103025Z
END:VEVENT
END:VCALENDAR