BEGIN:VCALENDAR
VERSION:2.0
PRODID:iheid
X-WR-TIMEZONE:Europe/Zurich
BEGIN:VTIMEZONE
TZID:Europe/Zurich
X-LIC-LOCATION:Europe/Zurich
END:VTIMEZONE
BEGIN:VEVENT
UID:69e737fe02a34
DTSTART:20251103T090000Z
SEQUENCE:0
TRANSP:OPAQUE
DTEND:20251203T160000Z
LOCATION:The Fab\, Maison de la paix\, Geneva Graduate Institute
SUMMARY:Art Exhibition - Tristan Bartolini
CLASS:PUBLIC
DESCRIPTION:Art Exhibition - Tristan Bartolini by Tristan Bartolini\, Graph
 ic Designer and Typographer\, alumnus of the Geneva University of Art and 
 Design (HEAD).\n\n\n\nEvent connection: 
DTSTAMP:20260421T104030Z
END:VEVENT
END:VCALENDAR