BEGIN:VCALENDAR
VERSION:2.0
PRODID:iheid
X-WR-TIMEZONE:Europe/Zurich
BEGIN:VTIMEZONE
TZID:Europe/Zurich
X-LIC-LOCATION:Europe/Zurich
END:VTIMEZONE
BEGIN:VEVENT
UID:69eaf57c74ecc
DTSTART:20251117T171500Z
SEQUENCE:0
TRANSP:OPAQUE
DTEND:20251117T193000Z
URL:https://docs.google.com/forms/d/e/1FAIpQLSd9RsESCStuY57wnvN1pisttIcq-n8
 modiCI-UaBDT1UxKhFw/viewform?usp=header
LOCATION:Maison de la paix | Auditorium Ivan Pictet
SUMMARY:Adapting the Unadaptable? Cinema\, literature and politics around C
 ien Años de Soledad
CLASS:PUBLIC
DESCRIPTION:Adapting the Unadaptable? Cinema\, literature and politics arou
 nd Cien Años de Soledad by Diversity\, Equity &amp\; Inclusion Initiative
 .\n\n\n\nEvent connection: https://docs.google.com/forms/d/e/1FAIpQLSd9RsE
 SCStuY57wnvN1pisttIcq-n8modiCI-UaBDT1UxKhFw/viewform?usp=header
DTSTAMP:20260424T064548Z
END:VEVENT
END:VCALENDAR