BEGIN:VCALENDAR
VERSION:2.0
PRODID:iheid
X-WR-TIMEZONE:Europe/Zurich
BEGIN:VTIMEZONE
TZID:Europe/Zurich
X-LIC-LOCATION:Europe/Zurich
END:VTIMEZONE
BEGIN:VEVENT
UID:69e7289408575
DTSTART:20251128T080000Z
SEQUENCE:0
TRANSP:OPAQUE
DTEND:20251128T120000Z
LOCATION:Auditorium A1A | Maison de la Paix\, Genève
SUMMARY:La Suisse et l’UE : Une relation à l’épreuve des bouleverseme
 nts géopolitiques
CLASS:PUBLIC
DESCRIPTION:La Suisse et l’UE : Une relation à l’épreuve des boulever
 sements géopolitiques by Ce séminaire est organisé en partenariat avec 
 Avenir Suisse et le foraus.\n\n\n\nEvent connection: 
DTSTAMP:20260421T093444Z
END:VEVENT
END:VCALENDAR