BEGIN:VCALENDAR
VERSION:2.0
PRODID:iheid
X-WR-TIMEZONE:Europe/Zurich
BEGIN:VTIMEZONE
TZID:Europe/Zurich
X-LIC-LOCATION:Europe/Zurich
END:VTIMEZONE
BEGIN:VEVENT
UID:69ea43026ccca
DTSTART:20250827T120000Z
SEQUENCE:0
TRANSP:OPAQUE
DTEND:20250827T130000Z
LOCATION:No location specified
SUMMARY:Regional Expertise: Why It Matters
CLASS:PUBLIC
DESCRIPTION:Regional Expertise: Why It Matters by Cyrus Schayegh &amp\; Ber
 nard Keo.\n\n\n\nEvent connection: 
DTSTAMP:20260423T180418Z
END:VEVENT
END:VCALENDAR