BEGIN:VCALENDAR
VERSION:2.0
PRODID:iheid
X-WR-TIMEZONE:Europe/Zurich
BEGIN:VTIMEZONE
TZID:Europe/Zurich
X-LIC-LOCATION:Europe/Zurich
END:VTIMEZONE
BEGIN:VEVENT
UID:69ed13fc3ce9a
DTSTART:20251001T150000Z
SEQUENCE:0
TRANSP:OPAQUE
DTEND:20251001T163000Z
URL:https://docs.google.com/forms/d/e/1FAIpQLSdtOWd3OVuTenmATAI4UVSpyxEbQAc
 -q5xEtWo_MQUEkvr_hg/viewform?usp=dialog
LOCATION:Auditorium Ivan Pictet\, Maison de la paix\, Geneva Graduate Insti
 tute
SUMMARY:Building Bridges and Coalitions for Climate Transition and Nature R
 estoration
CLASS:PUBLIC
DESCRIPTION:Building Bridges and Coalitions for Climate Transition and Natu
 re Restoration by Hoffmann Centre for Global Sustainability and Building B
 ridges.\n\n\n\nEvent connection: https://docs.google.com/forms/d/e/1FAIpQL
 SdtOWd3OVuTenmATAI4UVSpyxEbQAc-q5xEtWo_MQUEkvr_hg/viewform?usp=dialog
DTSTAMP:20260425T212028Z
END:VEVENT
END:VCALENDAR