BEGIN:VCALENDAR
VERSION:2.0
PRODID:iheid
X-WR-TIMEZONE:Europe/Zurich
BEGIN:VTIMEZONE
TZID:Europe/Zurich
X-LIC-LOCATION:Europe/Zurich
END:VTIMEZONE
BEGIN:VEVENT
UID:69ed13fc1131e
DTSTART:20251003T094500Z
SEQUENCE:0
TRANSP:OPAQUE
DTEND:20251003T110000Z
URL:https://docs.google.com/forms/d/e/1FAIpQLSdtOWd3OVuTenmATAI4UVSpyxEbQAc
 -q5xEtWo_MQUEkvr_hg/viewform?usp=dialog
LOCATION:Jacques-Freymond Auditorium\, Domaine Barton&nbsp\;
SUMMARY:The Rise of Populism and Sustainability
CLASS:PUBLIC
DESCRIPTION:The Rise of Populism and Sustainability by Hoffmann Centre for 
 Global Sustainability and Building Bridges.\n\n\n\nEvent connection: https
 ://docs.google.com/forms/d/e/1FAIpQLSdtOWd3OVuTenmATAI4UVSpyxEbQAc-q5xEtWo
 _MQUEkvr_hg/viewform?usp=dialog
DTSTAMP:20260425T212028Z
END:VEVENT
END:VCALENDAR