BEGIN:VCALENDAR
VERSION:2.0
PRODID:iheid
X-WR-TIMEZONE:Europe/Zurich
BEGIN:VTIMEZONE
TZID:Europe/Zurich
X-LIC-LOCATION:Europe/Zurich
END:VTIMEZONE
BEGIN:VEVENT
UID:69e7adf40bb59
DTSTART:20251002T120000Z
SEQUENCE:0
TRANSP:OPAQUE
DTEND:20251002T130000Z
LOCATION:No location specified
SUMMARY:Why is Studying International Law more important than ever? 
CLASS:PUBLIC
DESCRIPTION:Why is Studying International Law more important than ever?  by
   Andrew Clapham Professor\, International Law.\n\n\n\nEvent connection: 
DTSTAMP:20260421T190348Z
END:VEVENT
END:VCALENDAR