BEGIN:VCALENDAR
VERSION:2.0
PRODID:iheid
X-WR-TIMEZONE:Europe/Zurich
BEGIN:VTIMEZONE
TZID:Europe/Zurich
X-LIC-LOCATION:Europe/Zurich
END:VTIMEZONE
BEGIN:VEVENT
UID:69eb16ea443e2
DTSTART:20260212T080000Z
SEQUENCE:0
TRANSP:OPAQUE
DTEND:20260213T113000Z
LOCATION:Room S8\, Maison de la paix\, chemin Eugène Rigot 2a\, 1202 Genev
 a
SUMMARY:Workshop on Finance and Development in Low and Middle-Income Countr
 ies: Micro and Macro Perspectives
CLASS:PUBLIC
DESCRIPTION:Workshop on Finance and Development in Low and Middle-Income Co
 untries: Micro and Macro Perspectives by Organised by Lore Vandewalle. Ugo
  Panizza\, Lukas Menkhoff\, Robert Lensink and Stefan Klonner.\n\n\n\nEven
 t connection: 
DTSTAMP:20260424T090826Z
END:VEVENT
END:VCALENDAR