BEGIN:VCALENDAR
VERSION:2.0
PRODID:iheid
X-WR-TIMEZONE:Europe/Zurich
BEGIN:VTIMEZONE
TZID:Europe/Zurich
X-LIC-LOCATION:Europe/Zurich
END:VTIMEZONE
BEGIN:VEVENT
UID:69ea65c479bc3
DTSTART:20251028T113000Z
SEQUENCE:0
TRANSP:OPAQUE
DTEND:20251028T123000Z
URL:https://docs.google.com/forms/d/e/1FAIpQLSdvzYT3YehEMKnhdc5NPSiH1JTb4ft
 rcoDRhn3vmFCsO2o0cA/viewform?usp=pp_url&entry.156899847=AI+and+the+Democra
 tic+Commons:+New+Practices+of+Participation
LOCATION:Room S11\, Maison de la paix\, and online
SUMMARY:AI and the Democratic Commons: New Practices of Participation
CLASS:PUBLIC
DESCRIPTION:AI and the Democratic Commons: New Practices of Participation b
 y Clarie Alspektor\, Make.org\, and Democratic Commons\, Sciences Po and 
 Sorbonne.\n\n\n\nEvent connection: https://docs.google.com/forms/d/e/1FAIp
 QLSdvzYT3YehEMKnhdc5NPSiH1JTb4ftrcoDRhn3vmFCsO2o0cA/viewform?usp=pp_url&am
 p\;entry.156899847=AI+and+the+Democratic+Commons:+New+Practices+of+Partici
 pation
DTSTAMP:20260423T203236Z
END:VEVENT
END:VCALENDAR