BEGIN:VCALENDAR
VERSION:2.0
PRODID:iheid
X-WR-TIMEZONE:Europe/Zurich
BEGIN:VTIMEZONE
TZID:Europe/Zurich
X-LIC-LOCATION:Europe/Zurich
END:VTIMEZONE
BEGIN:VEVENT
UID:69e9ce362422a
DTSTART:20251015T101500Z
SEQUENCE:0
TRANSP:OPAQUE
DTEND:20251015T120000Z
LOCATION:Auditorium A1 | Maison de la paix\, Geneva
SUMMARY:An Israeli-Palestinian Federation : An Alternative Approach to Peac
 e
CLASS:PUBLIC
DESCRIPTION:An Israeli-Palestinian Federation : An Alternative Approach to 
 Peace by The Institute.\n\n\n\nEvent connection: 
DTSTAMP:20260423T094558Z
END:VEVENT
END:VCALENDAR