BEGIN:VCALENDAR
VERSION:2.0
PRODID:iheid
X-WR-TIMEZONE:Europe/Zurich
BEGIN:VTIMEZONE
TZID:Europe/Zurich
X-LIC-LOCATION:Europe/Zurich
END:VTIMEZONE
BEGIN:VEVENT
UID:69e8d616869d7
DTSTART:20251119T130000Z
SEQUENCE:0
TRANSP:OPAQUE
DTEND:20251119T140000Z
URL:https://iheid.webex.com/weblink/register/r2c4ba21e20476b1d368e3047a79a1
 128
LOCATION:(CET) Online only
SUMMARY:Resisting Erasure: Capital\, Imperialism and Race in Palestine
CLASS:PUBLIC
DESCRIPTION:Resisting Erasure: Capital\, Imperialism and Race in Palestine 
 by Adam Hanieh\, Robert Knox and Rafeef Ziadah.\n\n\n\nEvent connection: h
 ttps://iheid.webex.com/weblink/register/r2c4ba21e20476b1d368e3047a79a1128
DTSTAMP:20260422T160718Z
END:VEVENT
END:VCALENDAR