BEGIN:VCALENDAR
VERSION:2.0
PRODID:iheid
X-WR-TIMEZONE:Europe/Zurich
BEGIN:VTIMEZONE
TZID:Europe/Zurich
X-LIC-LOCATION:Europe/Zurich
END:VTIMEZONE
BEGIN:VEVENT
UID:69eb2c609ca7d
DTSTART:20251125T171528Z
SEQUENCE:0
TRANSP:OPAQUE
DTEND:20251125T180028Z
URL:https://iheid.webex.com/weblink/register/r2a4eacde3f0f1d1707c54f1a73db0
 ece
LOCATION:Maison de la Paix\, Room S11 and Online
SUMMARY:Non-signatory States in International Refugee Law
CLASS:PUBLIC
DESCRIPTION:Non-signatory States in International Refugee Law by Global Mig
 ration Centre.\n\n\n\nEvent connection: https://iheid.webex.com/weblink/re
 gister/r2a4eacde3f0f1d1707c54f1a73db0ece
DTSTAMP:20260424T104000Z
END:VEVENT
END:VCALENDAR