BEGIN:VCALENDAR
VERSION:2.0
PRODID:iheid
X-WR-TIMEZONE:Europe/Zurich
BEGIN:VTIMEZONE
TZID:Europe/Zurich
X-LIC-LOCATION:Europe/Zurich
END:VTIMEZONE
BEGIN:VEVENT
UID:69e4d9ca5c7d0
DTSTART:20251023T101500Z
SEQUENCE:0
TRANSP:OPAQUE
DTEND:20251023T120000Z
LOCATION:Geneva Graduate Institute\, Maison de la paix\, Room S5
SUMMARY:THE PARTY’S INTERESTS COMES FIRST: THE LIFE OF XI ZHONGXUN\, FATH
 ER OF XI JINPING
CLASS:PUBLIC
DESCRIPTION:THE PARTY’S INTERESTS COMES FIRST: THE LIFE OF XI ZHONGXUN\, 
 FATHER OF XI JINPING by Joseph Torigian.\n\n\n\nEvent connection: 
DTSTAMP:20260419T153402Z
END:VEVENT
END:VCALENDAR