BEGIN:VCALENDAR
VERSION:2.0
PRODID:iheid
X-WR-TIMEZONE:Europe/Zurich
BEGIN:VTIMEZONE
TZID:Europe/Zurich
X-LIC-LOCATION:Europe/Zurich
END:VTIMEZONE
BEGIN:VEVENT
UID:69e5d7239e589
DTSTART:20251202T171546Z
SEQUENCE:0
TRANSP:OPAQUE
DTEND:20251202T183046Z
URL:https://iheid.webex.com/weblink/register/r4fcbe3e3e5ab7cf953e25563941b1
 ac2
LOCATION:Room S1 - Maison de la Paix and Online
SUMMARY:Mass Graves in The Context of Migration
CLASS:PUBLIC
DESCRIPTION:Mass Graves in The Context of Migration by Global Migration Cen
 tre | Professor Melanie Klinkner.\n\n\n\nEvent connection: https://iheid.w
 ebex.com/weblink/register/r4fcbe3e3e5ab7cf953e25563941b1ac2
DTSTAMP:20260420T093459Z
END:VEVENT
END:VCALENDAR