BEGIN:VCALENDAR
VERSION:2.0
PRODID:iheid
X-WR-TIMEZONE:Europe/Zurich
BEGIN:VTIMEZONE
TZID:Europe/Zurich
X-LIC-LOCATION:Europe/Zurich
END:VTIMEZONE
BEGIN:VEVENT
UID:69eca4991ba8a
DTSTART:20260305T070000Z
SEQUENCE:0
TRANSP:OPAQUE
DTEND:20260306T160000Z
LOCATION:No location specified
SUMMARY:STRENGTHENING CAPACITY IN GLOBAL HEALTH DIPLOMACY
CLASS:PUBLIC
DESCRIPTION:STRENGTHENING CAPACITY IN GLOBAL HEALTH DIPLOMACY by Global Hea
 lth Centre.\n\n\n\nEvent connection: 
DTSTAMP:20260425T132513Z
END:VEVENT
END:VCALENDAR