BEGIN:VCALENDAR
VERSION:2.0
PRODID:iheid
X-WR-TIMEZONE:Europe/Zurich
BEGIN:VTIMEZONE
TZID:Europe/Zurich
X-LIC-LOCATION:Europe/Zurich
END:VTIMEZONE
BEGIN:VEVENT
UID:69eb2c7049777
DTSTART:20251124T143000Z
SEQUENCE:0
TRANSP:OPAQUE
DTEND:20251124T160000Z
LOCATION:Maison de la paix\, Room S12 and Online
SUMMARY:Vulnerability in the Anthropocene: Bodies\, Infrastructures\, and T
 emporality
CLASS:PUBLIC
DESCRIPTION:Vulnerability in the Anthropocene: Bodies\, Infrastructures\, a
 nd Temporality by Alejandro Esguerra.\n\n\n\nEvent connection: 
DTSTAMP:20260424T104016Z
END:VEVENT
END:VCALENDAR