BEGIN:VCALENDAR
VERSION:2.0
PRODID:iheid
X-WR-TIMEZONE:Europe/Zurich
BEGIN:VTIMEZONE
TZID:Europe/Zurich
X-LIC-LOCATION:Europe/Zurich
END:VTIMEZONE
BEGIN:VEVENT
UID:69eb2c7e7154b
DTSTART:20251125T131500Z
SEQUENCE:0
TRANSP:OPAQUE
DTEND:20251125T143000Z
LOCATION:Maison de la paix\, Room S12 and Online
SUMMARY:Gaia’s Lifeboats and Their Stewards: Reflections on the Present-F
 uture of Global Governance
CLASS:PUBLIC
DESCRIPTION:Gaia’s Lifeboats and Their Stewards: Reflections on the Prese
 nt-Future of Global Governance by Delf Rothe\, Jef Huysmans\, Stephanie Wa
 kefield.\n\n\n\nEvent connection: 
DTSTAMP:20260424T104030Z
END:VEVENT
END:VCALENDAR