BEGIN:VCALENDAR
VERSION:2.0
PRODID:iheid
X-WR-TIMEZONE:Europe/Zurich
BEGIN:VTIMEZONE
TZID:Europe/Zurich
X-LIC-LOCATION:Europe/Zurich
END:VTIMEZONE
BEGIN:VEVENT
UID:69ecfd938b98a
DTSTART:20251203T170000Z
SEQUENCE:0
TRANSP:OPAQUE
DTEND:20251203T203000Z
URL:https://knowledgegov.org/event/centre-launch-panel-and-book-launch/
LOCATION:Auditorium A2\, Maison de la paix\, Geneva
SUMMARY:Centre on Knowledge Governance Launch & Reception
CLASS:PUBLIC
DESCRIPTION:Centre on Knowledge Governance Launch &amp\; Reception by Centr
 e for Knowledge Governance.\n\n\n\nEvent connection: https://knowledgegov.
 org/event/centre-launch-panel-and-book-launch/
DTSTAMP:20260425T194451Z
END:VEVENT
END:VCALENDAR