BEGIN:VCALENDAR
VERSION:2.0
PRODID:iheid
X-WR-TIMEZONE:Europe/Zurich
BEGIN:VTIMEZONE
TZID:Europe/Zurich
X-LIC-LOCATION:Europe/Zurich
END:VTIMEZONE
BEGIN:VEVENT
UID:69eb15a63b0f2
DTSTART:20251215T173000Z
SEQUENCE:0
TRANSP:OPAQUE
DTEND:20251215T190000Z
LOCATION:Geneva Graduate Institute | Auditorium 2\, Maison de la paix
SUMMARY:From commitments to action: advancing child rights and expanding ac
 cess to family reunification
CLASS:PUBLIC
DESCRIPTION:From commitments to action: advancing child rights and expandin
 g access to family reunification by CCDP\, GMC\, FRUN\, Initiative for Chi
 ld Rights in the Global Compacts\, Migration Initiative.\n\n\n\nEvent conn
 ection: 
DTSTAMP:20260424T090302Z
END:VEVENT
END:VCALENDAR