BEGIN:VCALENDAR
VERSION:2.0
PRODID:iheid
X-WR-TIMEZONE:Europe/Zurich
BEGIN:VTIMEZONE
TZID:Europe/Zurich
X-LIC-LOCATION:Europe/Zurich
END:VTIMEZONE
BEGIN:VEVENT
UID:69eb2c70985cb
DTSTART:20251209T130000Z
SEQUENCE:0
TRANSP:OPAQUE
DTEND:20251209T150000Z
URL:https://forms.gle/7en2vjFhLvSbrzx36
LOCATION:Auditorium A2\, Maison de la paix\, Geneva Graduate Institute
SUMMARY:Trade Data in Action: A Conversation with UNCTAD on the Tariff Dash
 board
CLASS:PUBLIC
DESCRIPTION:Trade Data in Action: A Conversation with UNCTAD on the Tariff 
 Dashboard by International and Development Studies.\n\n\n\nEvent connectio
 n: https://forms.gle/7en2vjFhLvSbrzx36
DTSTAMP:20260424T104016Z
END:VEVENT
END:VCALENDAR