BEGIN:VCALENDAR
VERSION:2.0
PRODID:iheid
X-WR-TIMEZONE:Europe/Zurich
BEGIN:VTIMEZONE
TZID:Europe/Zurich
X-LIC-LOCATION:Europe/Zurich
END:VTIMEZONE
BEGIN:VEVENT
UID:69ea65e030b49
DTSTART:20260120T113000Z
SEQUENCE:0
TRANSP:OPAQUE
DTEND:20260120T123000Z
LOCATION:Room S11\, Maison de la paix\, and online
SUMMARY:Participation in the UNFCCC’s First Global Stocktake: Innovation 
 and Continuity in Climate Governance
CLASS:PUBLIC
DESCRIPTION:Participation in the UNFCCC’s First Global Stocktake: Innovat
 ion and Continuity in Climate Governance by Kari de Pryck and Niklas Wagne
 r\, University of Geneva.\n\n\n\nEvent connection: 
DTSTAMP:20260423T203304Z
END:VEVENT
END:VCALENDAR