BEGIN:VCALENDAR
VERSION:2.0
PRODID:iheid
X-WR-TIMEZONE:Europe/Zurich
BEGIN:VTIMEZONE
TZID:Europe/Zurich
X-LIC-LOCATION:Europe/Zurich
END:VTIMEZONE
BEGIN:VEVENT
UID:69eb16b0ad8a7
DTSTART:20251218T171501Z
SEQUENCE:0
TRANSP:OPAQUE
DTEND:20251218T190001Z
LOCATION:Maison de la Paix\, Auditorium A2 and Online
SUMMARY:Words Matter: Launch of the Elgar Concise Encyclopedia of Migration
  and Asylum Law
CLASS:PUBLIC
DESCRIPTION:Words Matter: Launch of the Elgar Concise Encyclopedia of Migra
 tion and Asylum Law by Global Migration Centre.\n\n\n\nEvent connection: 
DTSTAMP:20260424T090728Z
END:VEVENT
END:VCALENDAR