BEGIN:VCALENDAR
VERSION:2.0
PRODID:iheid
X-WR-TIMEZONE:Europe/Zurich
BEGIN:VTIMEZONE
TZID:Europe/Zurich
X-LIC-LOCATION:Europe/Zurich
END:VTIMEZONE
BEGIN:VEVENT
UID:69e83ef03ddc3
DTSTART:20260519T121500Z
SEQUENCE:0
TRANSP:OPAQUE
DTEND:20260519T133000Z
LOCATION:Geneva Graduate Institute\, Maison de la paix\, Room S5
SUMMARY:Vilfredo Pareto Research Seminar
CLASS:PUBLIC
DESCRIPTION:Vilfredo Pareto Research Seminar by Rui Esteves\, Geneva Gradua
 te Institute.\n\n\n\nEvent connection: 
DTSTAMP:20260422T052224Z
END:VEVENT
END:VCALENDAR