BEGIN:VCALENDAR
VERSION:2.0
PRODID:iheid
X-WR-TIMEZONE:Europe/Zurich
BEGIN:VTIMEZONE
TZID:Europe/Zurich
X-LIC-LOCATION:Europe/Zurich
END:VTIMEZONE
BEGIN:VEVENT
UID:69ea47721c859
DTSTART:20260526T121500Z
SEQUENCE:0
TRANSP:OPAQUE
DTEND:20260526T133000Z
LOCATION:Geneva Graduate Institute\, Maison de la paix\, Room S5
SUMMARY:Vilfredo Pareto Research Seminar
CLASS:PUBLIC
DESCRIPTION:Vilfredo Pareto Research Seminar by Qin Yu\, National Universit
 y of Singapore.\n\n\n\nEvent connection: 
DTSTAMP:20260423T182314Z
END:VEVENT
END:VCALENDAR