BEGIN:VCALENDAR
VERSION:2.0
PRODID:iheid
X-WR-TIMEZONE:Europe/Zurich
BEGIN:VTIMEZONE
TZID:Europe/Zurich
X-LIC-LOCATION:Europe/Zurich
END:VTIMEZONE
BEGIN:VEVENT
UID:69eabe53582e9
DTSTART:20260127T161527Z
SEQUENCE:0
TRANSP:OPAQUE
DTEND:20260127T181527Z
URL:https://docs.google.com/forms/d/e/1FAIpQLSenR_dlM3I4A9ukoPCS-h9TZfakDL-
 CBfepXx_a_DRFeTp_mQ/viewform?usp=header
LOCATION:Auditorium Ivan Pictet\, Petal 2\, Geneva Graduate Institute
SUMMARY:Nature as Infrastructure – Unlocking Private Capital Through Publ
 ic-Private Partnerships
CLASS:PUBLIC
DESCRIPTION:Nature as Infrastructure – Unlocking Private Capital Through 
 Public-Private Partnerships by Erik Berglof &amp\; Beatrice Weder di Mauro
 .\n\n\n\nEvent connection: https://docs.google.com/forms/d/e/1FAIpQLSenR_d
 lM3I4A9ukoPCS-h9TZfakDL-CBfepXx_a_DRFeTp_mQ/viewform?usp=header
DTSTAMP:20260424T025027Z
END:VEVENT
END:VCALENDAR