BEGIN:VCALENDAR
VERSION:2.0
PRODID:iheid
X-WR-TIMEZONE:Europe/Zurich
BEGIN:VTIMEZONE
TZID:Europe/Zurich
X-LIC-LOCATION:Europe/Zurich
END:VTIMEZONE
BEGIN:VEVENT
UID:69e67e5e9ca03
DTSTART:20260507T104500Z
SEQUENCE:0
TRANSP:OPAQUE
DTEND:20260507T120000Z
LOCATION:Geneva Graduate Institute\, Maison de la paix\, Room S11 and Onlin
 e
SUMMARY:Anxiety\, Anger\, and Hope in High-Profile Youth Climate Litigation
CLASS:PUBLIC
DESCRIPTION:Anxiety\, Anger\, and Hope in High-Profile Youth Climate Litiga
 tion by Anne Saab\, Geneva Graduate Institute.\n\n\n\nEvent connection: 
DTSTAMP:20260420T212830Z
END:VEVENT
END:VCALENDAR